BEGIN:VCALENDAR
VERSION:2.0
PRODID:-//Luc Chareyron - ECPv6.8.3//NONSGML v1.0//EN
CALSCALE:GREGORIAN
METHOD:PUBLISH
X-ORIGINAL-URL:https://www.lucchareyron.com
X-WR-CALDESC:Évènements pour Luc Chareyron
REFRESH-INTERVAL;VALUE=DURATION:PT1H
X-Robots-Tag:noindex
X-PUBLISHED-TTL:PT1H
BEGIN:VTIMEZONE
TZID:Europe/Paris
BEGIN:DAYLIGHT
TZOFFSETFROM:+0100
TZOFFSETTO:+0200
TZNAME:CEST
DTSTART:20250330T010000
END:DAYLIGHT
BEGIN:STANDARD
TZOFFSETFROM:+0200
TZOFFSETTO:+0100
TZNAME:CET
DTSTART:20251026T010000
END:STANDARD
END:VTIMEZONE
BEGIN:VEVENT
DTSTART;VALUE=DATE:20250727
DTEND;VALUE=DATE:20250728
DTSTAMP:20260421T064854
CREATED:20250107T154006Z
LAST-MODIFIED:20250403T133643Z
UID:2036-1753574400-1753660799@www.lucchareyron.com
SUMMARY:SAINT-AMANT-ROCHE-SAVINE (63)
DESCRIPTION:Représentation à 10 h 30 \nau Festival de LA BELLE ROUGE \ntel : 01 49 98 39 20
URL:https://www.lucchareyron.com/evenement/saint-amant-roche-savine-63/
CATEGORIES:Ça résiste,Spectacles
ATTACH;FMTTYPE=image/jpeg:https://www.lucchareyron.com/wp-content/uploads/2016/12/Bouton_ca_resiste.jpg
END:VEVENT
END:VCALENDAR