BEGIN:VCALENDAR
VERSION:2.0
PRODID:-//Luc Chareyron - ECPv6.8.3//NONSGML v1.0//EN
CALSCALE:GREGORIAN
METHOD:PUBLISH
X-WR-CALNAME:Luc Chareyron
X-ORIGINAL-URL:https://www.lucchareyron.com
X-WR-CALDESC:Évènements pour Luc Chareyron
REFRESH-INTERVAL;VALUE=DURATION:PT1H
X-Robots-Tag:noindex
X-PUBLISHED-TTL:PT1H
BEGIN:VTIMEZONE
TZID:Europe/Paris
BEGIN:DAYLIGHT
TZOFFSETFROM:+0100
TZOFFSETTO:+0200
TZNAME:CEST
DTSTART:20240331T010000
END:DAYLIGHT
BEGIN:STANDARD
TZOFFSETFROM:+0200
TZOFFSETTO:+0100
TZNAME:CET
DTSTART:20241027T010000
END:STANDARD
END:VTIMEZONE
BEGIN:VEVENT
DTSTART;VALUE=DATE:20240822
DTEND;VALUE=DATE:20240823
DTSTAMP:20260421T231542
CREATED:20240117T105437Z
LAST-MODIFIED:20240117T105437Z
UID:1916-1724284800-1724371199@www.lucchareyron.com
SUMMARY:CHAMPAGNAC-DE-BÉLAIR (24)
DESCRIPTION:LE CULTUREL AU PLURIEL\, Festival DUOS EN SCENE \n21 h à la Salle Culturelle\nPlace des ormeaux 24530 Champagnac de Bélair
URL:https://www.lucchareyron.com/evenement/champagnac-de-belair-24-2/
CATEGORIES:Les joueurs de cartes,Spectacles
ATTACH;FMTTYPE=image/jpeg:https://www.lucchareyron.com/wp-content/uploads/2022/11/Bouton_LJDC-e1708074240273.jpg
END:VEVENT
END:VCALENDAR