BEGIN:VCALENDAR
VERSION:2.0
PRODID:-//Luc Chareyron - ECPv6.8.3//NONSGML v1.0//EN
CALSCALE:GREGORIAN
METHOD:PUBLISH
X-WR-CALNAME:Luc Chareyron
X-ORIGINAL-URL:https://www.lucchareyron.com
X-WR-CALDESC:Évènements pour Luc Chareyron
REFRESH-INTERVAL;VALUE=DURATION:PT1H
X-Robots-Tag:noindex
X-PUBLISHED-TTL:PT1H
BEGIN:VTIMEZONE
TZID:Europe/Paris
BEGIN:DAYLIGHT
TZOFFSETFROM:+0100
TZOFFSETTO:+0200
TZNAME:CEST
DTSTART:20240331T010000
END:DAYLIGHT
BEGIN:STANDARD
TZOFFSETFROM:+0200
TZOFFSETTO:+0100
TZNAME:CET
DTSTART:20241027T010000
END:STANDARD
END:VTIMEZONE
BEGIN:VEVENT
DTSTART;VALUE=DATE:20240525
DTEND;VALUE=DATE:20240527
DTSTAMP:20260422T030417
CREATED:20240117T104327Z
LAST-MODIFIED:20240117T104327Z
UID:1912-1716595200-1716767999@www.lucchareyron.com
SUMMARY:MARNE LA VALLÉE (77)
DESCRIPTION:Pour le festival  » Printemps de paroles  » \n– Plus d’informations prochainement –
URL:https://www.lucchareyron.com/evenement/marne-la-vallee-77/
CATEGORIES:Éloge de la Pifométrie,Spectacles
ATTACH;FMTTYPE=image/jpeg:https://www.lucchareyron.com/wp-content/uploads/2016/12/Bouton_pifometrie.jpg
END:VEVENT
END:VCALENDAR