BEGIN:VCALENDAR
VERSION:2.0
PRODID:-//Luc Chareyron - ECPv6.8.3//NONSGML v1.0//EN
CALSCALE:GREGORIAN
METHOD:PUBLISH
X-WR-CALNAME:Luc Chareyron
X-ORIGINAL-URL:https://www.lucchareyron.com
X-WR-CALDESC:Évènements pour Luc Chareyron
REFRESH-INTERVAL;VALUE=DURATION:PT1H
X-Robots-Tag:noindex
X-PUBLISHED-TTL:PT1H
BEGIN:VTIMEZONE
TZID:Europe/Paris
BEGIN:DAYLIGHT
TZOFFSETFROM:+0100
TZOFFSETTO:+0200
TZNAME:CEST
DTSTART:20230326T010000
END:DAYLIGHT
BEGIN:STANDARD
TZOFFSETFROM:+0200
TZOFFSETTO:+0100
TZNAME:CET
DTSTART:20231029T010000
END:STANDARD
END:VTIMEZONE
BEGIN:VEVENT
DTSTART;VALUE=DATE:20230525
DTEND;VALUE=DATE:20230526
DTSTAMP:20260422T214306
CREATED:20230327T204058Z
LAST-MODIFIED:20230512T161824Z
UID:1705-1684972800-1685059199@www.lucchareyron.com
SUMMARY:COMBOVIN (26)
DESCRIPTION:AUX BERGES DE 3 RUISSEAUX\n15\, grande Rue 26120 Combovin \nà 20 H 30. \nRestauration possible sur place avant le spectacle. \nRenseignement & réservations au 04 72 83 56 05
URL:https://www.lucchareyron.com/evenement/combovin-26/
CATEGORIES:Les joueurs de cartes,Spectacles
ATTACH;FMTTYPE=image/jpeg:https://www.lucchareyron.com/wp-content/uploads/2022/11/Bouton_LJDC-e1708074240273.jpg
END:VEVENT
END:VCALENDAR