BEGIN:VCALENDAR
VERSION:2.0
PRODID:-//Luc Chareyron - ECPv6.8.3//NONSGML v1.0//EN
CALSCALE:GREGORIAN
METHOD:PUBLISH
X-WR-CALNAME:Luc Chareyron
X-ORIGINAL-URL:https://www.lucchareyron.com
X-WR-CALDESC:Évènements pour Luc Chareyron
REFRESH-INTERVAL;VALUE=DURATION:PT1H
X-Robots-Tag:noindex
X-PUBLISHED-TTL:PT1H
BEGIN:VTIMEZONE
TZID:UTC
BEGIN:STANDARD
TZOFFSETFROM:+0000
TZOFFSETTO:+0000
TZNAME:UTC
DTSTART:20220101T000000
END:STANDARD
END:VTIMEZONE
BEGIN:VEVENT
DTSTART;VALUE=DATE:20220916
DTEND;VALUE=DATE:20220917
DTSTAMP:20260423T092555
CREATED:20220721T074848Z
LAST-MODIFIED:20220721T075306Z
UID:1509-1663286400-1663372799@www.lucchareyron.com
SUMMARY:YVOIRE (74)
DESCRIPTION:LES JOUEURS DE CARTES \nSalle communale \nà 20 h \nDans le cadre des « Chemins de traverse » organisé par\nLa Maison des Arts du Léman de Thonon-Évian-Publier
URL:https://www.lucchareyron.com/evenement/yvoire/
CATEGORIES:Les joueurs de cartes,Spectacles
END:VEVENT
END:VCALENDAR