BEGIN:VCALENDAR
VERSION:2.0
PRODID:-//Luc Chareyron - ECPv6.8.3//NONSGML v1.0//EN
CALSCALE:GREGORIAN
METHOD:PUBLISH
X-ORIGINAL-URL:https://www.lucchareyron.com
X-WR-CALDESC:Évènements pour Luc Chareyron
REFRESH-INTERVAL;VALUE=DURATION:PT1H
X-Robots-Tag:noindex
X-PUBLISHED-TTL:PT1H
BEGIN:VTIMEZONE
TZID:Europe/Paris
BEGIN:DAYLIGHT
TZOFFSETFROM:+0100
TZOFFSETTO:+0200
TZNAME:CEST
DTSTART:20260329T010000
END:DAYLIGHT
BEGIN:STANDARD
TZOFFSETFROM:+0200
TZOFFSETTO:+0100
TZNAME:CET
DTSTART:20261025T010000
END:STANDARD
END:VTIMEZONE
BEGIN:VEVENT
DTSTART;TZID=Europe/Paris:20261004T080000
DTEND;TZID=Europe/Paris:20261004T170000
DTSTAMP:20260419T193628
CREATED:20260413T124637Z
LAST-MODIFIED:20260413T124637Z
UID:2284-1791100800-1791133200@www.lucchareyron.com
SUMMARY:VALENCE (26)
DESCRIPTION:15 h au Théâtre de la Ville de Valence \n » Menu complet » – Le théâtre de la Ville de Valence\, dans le cadre de son ouverture de saison 2026/2027 accueille les quatre fantaisies scientifico-poétiques de Luc Chareyron le temps d’un seuil week-end !\n« Le triomphe de l’enclume » vendredi 2/10\, « Les Dieux et le Père Noël\, vers une solution quantique » et « Ça résiste ! » le samedi 3/10\, « Éloge de la Pifométrie » le dimanche 4/10 \nOrganisé pendant la période de la Fête de la Science 2026 du 2 au 12 octobre et en connivence avec le Village des Sciences installé à Valence.
URL:https://www.lucchareyron.com/evenement/valence-26-6/
LOCATION:théatre de la Ville e Valence
CATEGORIES:Éloge de la Pifométrie,Spectacles
ATTACH;FMTTYPE=image/jpeg:https://www.lucchareyron.com/wp-content/uploads/2016/12/Bouton_pifometrie.jpg
END:VEVENT
END:VCALENDAR