BEGIN:VCALENDAR
VERSION:2.0
PRODID:-//Luc Chareyron - ECPv6.8.3//NONSGML v1.0//EN
CALSCALE:GREGORIAN
METHOD:PUBLISH
X-ORIGINAL-URL:https://www.lucchareyron.com
X-WR-CALDESC:Évènements pour Luc Chareyron
REFRESH-INTERVAL;VALUE=DURATION:PT1H
X-Robots-Tag:noindex
X-PUBLISHED-TTL:PT1H
BEGIN:VTIMEZONE
TZID:Europe/Paris
BEGIN:DAYLIGHT
TZOFFSETFROM:+0100
TZOFFSETTO:+0200
TZNAME:CEST
DTSTART:20250330T010000
END:DAYLIGHT
BEGIN:STANDARD
TZOFFSETFROM:+0200
TZOFFSETTO:+0100
TZNAME:CET
DTSTART:20251026T010000
END:STANDARD
END:VTIMEZONE
BEGIN:VEVENT
DTSTART;VALUE=DATE:20250110
DTEND;VALUE=DATE:20250111
DTSTAMP:20260421T144235
CREATED:20231130T160724Z
LAST-MODIFIED:20240117T104446Z
UID:1890-1736467200-1736553599@www.lucchareyron.com
SUMMARY:CORBAS (69)
DESCRIPTION:AU POLARIS \nPlus de renseignements prochainement
URL:https://www.lucchareyron.com/evenement/corbas-69/
CATEGORIES:Les joueurs de cartes,Spectacles
ATTACH;FMTTYPE=image/jpeg:https://www.lucchareyron.com/wp-content/uploads/2022/11/Bouton_LJDC-e1708074240273.jpg
END:VEVENT
BEGIN:VEVENT
DTSTART;VALUE=DATE:20250115
DTEND;VALUE=DATE:20250116
DTSTAMP:20260421T144235
CREATED:20240624T083658Z
LAST-MODIFIED:20240624T083725Z
UID:1977-1736899200-1736985599@www.lucchareyron.com
SUMMARY:SABLON (38)
DESCRIPTION:Lieux à définir \nOrganisé par\nTravail Et Culture\n42\, rue Jules Guesde\n38550 Saint Maurice l’Exil \nTel : 04 74 29 45 26\nPortable : 06 48 20 43 03
URL:https://www.lucchareyron.com/evenement/sablon-38/
CATEGORIES:Les joueurs de cartes,Spectacles
ATTACH;FMTTYPE=image/jpeg:https://www.lucchareyron.com/wp-content/uploads/2022/11/Bouton_LJDC-e1708074240273.jpg
END:VEVENT
BEGIN:VEVENT
DTSTART;VALUE=DATE:20250118
DTEND;VALUE=DATE:20250119
DTSTAMP:20260421T144235
CREATED:20240624T084224Z
LAST-MODIFIED:20240624T084224Z
UID:1979-1737158400-1737244799@www.lucchareyron.com
SUMMARY:VEYNES (05)
DESCRIPTION:Salle de Spectacle Le Quai des Arts2\, Avenue des Martyrs – 05400 Veynes \n 
URL:https://www.lucchareyron.com/evenement/veynes-05-3/
CATEGORIES:Les joueurs de cartes,Spectacles
ATTACH;FMTTYPE=image/jpeg:https://www.lucchareyron.com/wp-content/uploads/2022/11/Bouton_LJDC-e1708074240273.jpg
END:VEVENT
BEGIN:VEVENT
DTSTART;VALUE=DATE:20250119
DTEND;VALUE=DATE:20250120
DTSTAMP:20260421T144235
CREATED:20240624T084529Z
LAST-MODIFIED:20240624T084529Z
UID:1982-1737244800-1737331199@www.lucchareyron.com
SUMMARY:MONTÉLIMAR (26)
DESCRIPTION:Théâtre Émile Loubet \nÀ 16 H
URL:https://www.lucchareyron.com/evenement/montelimar-26/
CATEGORIES:Les joueurs de cartes,Spectacles
ATTACH;FMTTYPE=image/jpeg:https://www.lucchareyron.com/wp-content/uploads/2022/11/Bouton_LJDC-e1708074240273.jpg
END:VEVENT
END:VCALENDAR