BEGIN:VCALENDAR
VERSION:2.0
PRODID:-//Luc Chareyron - ECPv6.8.3//NONSGML v1.0//EN
CALSCALE:GREGORIAN
METHOD:PUBLISH
X-WR-CALNAME:Luc Chareyron
X-ORIGINAL-URL:https://www.lucchareyron.com
X-WR-CALDESC:Évènements pour Luc Chareyron
REFRESH-INTERVAL;VALUE=DURATION:PT1H
X-Robots-Tag:noindex
X-PUBLISHED-TTL:PT1H
BEGIN:VTIMEZONE
TZID:Europe/Paris
BEGIN:DAYLIGHT
TZOFFSETFROM:+0100
TZOFFSETTO:+0200
TZNAME:CEST
DTSTART:20240331T010000
END:DAYLIGHT
BEGIN:STANDARD
TZOFFSETFROM:+0200
TZOFFSETTO:+0100
TZNAME:CET
DTSTART:20241027T010000
END:STANDARD
END:VTIMEZONE
BEGIN:VEVENT
DTSTART;VALUE=DATE:20241005
DTEND;VALUE=DATE:20241006
DTSTAMP:20260421T185823
CREATED:20240708T092445Z
LAST-MODIFIED:20240708T092445Z
UID:1993-1728086400-1728172799@www.lucchareyron.com
SUMMARY:TALANGE (57)
DESCRIPTION:Au théâtre Jacques Brel \n– Plus d’informations prochainement –
URL:https://www.lucchareyron.com/evenement/talange-57/
CATEGORIES:Les joueurs de cartes,Spectacles
ATTACH;FMTTYPE=image/jpeg:https://www.lucchareyron.com/wp-content/uploads/2022/11/Bouton_LJDC-e1708074240273.jpg
END:VEVENT
BEGIN:VEVENT
DTSTART;VALUE=DATE:20241013
DTEND;VALUE=DATE:20241014
DTSTAMP:20260421T185823
CREATED:20240624T081527Z
LAST-MODIFIED:20240913T092138Z
UID:1968-1728777600-1728863999@www.lucchareyron.com
SUMMARY:Saint JUST Saint RAMBERT (42)
DESCRIPTION:à 15 h \nà la PASSERELLE \n7\, rue du 11 novembre\n42170 Saint-Just Saint-Rambert\nTél. : 04 77 55 65 51
URL:https://www.lucchareyron.com/evenement/saint-just-saint-rambert-42/
CATEGORIES:Éloge de la Pifométrie,Spectacles
ATTACH;FMTTYPE=image/jpeg:https://www.lucchareyron.com/wp-content/uploads/2016/12/Bouton_pifometrie.jpg
END:VEVENT
END:VCALENDAR