BEGIN:VCALENDAR
VERSION:2.0
PRODID:-//Luc Chareyron - ECPv6.8.3//NONSGML v1.0//EN
CALSCALE:GREGORIAN
METHOD:PUBLISH
X-ORIGINAL-URL:https://www.lucchareyron.com
X-WR-CALDESC:Évènements pour Luc Chareyron
REFRESH-INTERVAL;VALUE=DURATION:PT1H
X-Robots-Tag:noindex
X-PUBLISHED-TTL:PT1H
BEGIN:VTIMEZONE
TZID:Europe/Paris
BEGIN:DAYLIGHT
TZOFFSETFROM:+0100
TZOFFSETTO:+0200
TZNAME:CEST
DTSTART:20230326T010000
END:DAYLIGHT
BEGIN:STANDARD
TZOFFSETFROM:+0200
TZOFFSETTO:+0100
TZNAME:CET
DTSTART:20231029T010000
END:STANDARD
END:VTIMEZONE
BEGIN:VEVENT
DTSTART;VALUE=DATE:20230908
DTEND;VALUE=DATE:20230909
DTSTAMP:20260422T135204
CREATED:20230612T101541Z
LAST-MODIFIED:20230805T163308Z
UID:1765-1694131200-1694217599@www.lucchareyron.com
SUMMARY:SAILLANS (26)
DESCRIPTION:AU THÉÂTRE DU TEMPLE \nASSOCIATION FAUBOURG DU TEMPLE \nRENSEIGNEMENTS – RÉSERVATIONS : 04 75 22 31 71
URL:https://www.lucchareyron.com/evenement/saillans-26/
CATEGORIES:Les joueurs de cartes,Spectacles
ATTACH;FMTTYPE=image/jpeg:https://www.lucchareyron.com/wp-content/uploads/2022/11/Bouton_LJDC-e1708074240273.jpg
END:VEVENT
END:VCALENDAR