BEGIN:VCALENDAR
VERSION:2.0
PRODID:-//Luc Chareyron - ECPv6.8.3//NONSGML v1.0//EN
CALSCALE:GREGORIAN
METHOD:PUBLISH
X-WR-CALNAME:Luc Chareyron
X-ORIGINAL-URL:https://www.lucchareyron.com
X-WR-CALDESC:Évènements pour Luc Chareyron
REFRESH-INTERVAL;VALUE=DURATION:PT1H
X-Robots-Tag:noindex
X-PUBLISHED-TTL:PT1H
BEGIN:VTIMEZONE
TZID:UTC
BEGIN:STANDARD
TZOFFSETFROM:+0000
TZOFFSETTO:+0000
TZNAME:UTC
DTSTART:20230101T000000
END:STANDARD
END:VTIMEZONE
BEGIN:VEVENT
DTSTART;VALUE=DATE:20230203
DTEND;VALUE=DATE:20230204
DTSTAMP:20260423T005227
CREATED:20221102T092056Z
LAST-MODIFIED:20221102T092056Z
UID:1590-1675382400-1675468799@www.lucchareyron.com
SUMMARY:VILLARD-BONNOT (38)
DESCRIPTION:Looking For Cyrano \nESPACE ARAGON\n19 bis Bd Jules Ferry 38190 Villard-Bonnot \n14 h Séance scolaire \n20 h Séance tout public
URL:https://www.lucchareyron.com/evenement/villard-bonnot-38/
CATEGORIES:LOOKING FOR CYRANO,Spectacles
END:VEVENT
END:VCALENDAR