BEGIN:VCALENDAR
VERSION:2.0
PRODID:-//Luc Chareyron - ECPv6.8.3//NONSGML v1.0//EN
CALSCALE:GREGORIAN
METHOD:PUBLISH
X-ORIGINAL-URL:https://www.lucchareyron.com
X-WR-CALDESC:Évènements pour Luc Chareyron
REFRESH-INTERVAL;VALUE=DURATION:PT1H
X-Robots-Tag:noindex
X-PUBLISHED-TTL:PT1H
BEGIN:VTIMEZONE
TZID:UTC
BEGIN:STANDARD
TZOFFSETFROM:+0000
TZOFFSETTO:+0000
TZNAME:UTC
DTSTART:20220101T000000
END:STANDARD
END:VTIMEZONE
BEGIN:VEVENT
DTSTART;VALUE=DATE:20221108
DTEND;VALUE=DATE:20221109
DTSTAMP:20260423T050034
CREATED:20220722T130422Z
LAST-MODIFIED:20220722T130422Z
UID:1521-1667865600-1667951999@www.lucchareyron.com
SUMMARY:ARCIZAC-ADOUR (65)
DESCRIPTION:ÉLOGE DE LA PIFOMÉTRIE \nà la Salle des Fêtes \nà 20 h 30 \nDans le cadre de la saison du PARVIS – Scène Nationale Tarbes Pyrénées
URL:https://www.lucchareyron.com/evenement/arcizac-adour-65/
LOCATION:LE PARVIS – Scène nationale Tabes Pyrénées
CATEGORIES:Éloge de la Pifométrie,Spectacles
ATTACH;FMTTYPE=image/jpeg:https://www.lucchareyron.com/wp-content/uploads/2016/12/Bouton_pifometrie.jpg
END:VEVENT
BEGIN:VEVENT
DTSTART;VALUE=DATE:20221110
DTEND;VALUE=DATE:20221111
DTSTAMP:20260423T050034
CREATED:20220722T130829Z
LAST-MODIFIED:20220722T130829Z
UID:1525-1668038400-1668124799@www.lucchareyron.com
SUMMARY:LOURDES (65)
DESCRIPTION:ÉLOGE DE LA PIFOMÉTRIE \nà la salle LE PALAIS \nà 20 h 30 \nDans le cadre de la saison du PARVIS – Scène Nationale Tarbes Pyrénées
URL:https://www.lucchareyron.com/evenement/lourdes-65/
CATEGORIES:Éloge de la Pifométrie,Spectacles
ATTACH;FMTTYPE=image/jpeg:https://www.lucchareyron.com/wp-content/uploads/2016/12/Bouton_pifometrie.jpg
END:VEVENT
BEGIN:VEVENT
DTSTART;VALUE=DATE:20221111
DTEND;VALUE=DATE:20221112
DTSTAMP:20260423T050034
CREATED:20220722T131117Z
LAST-MODIFIED:20220722T142126Z
UID:1528-1668124800-1668211199@www.lucchareyron.com
SUMMARY:SAINT SAVIN (65)
DESCRIPTION:ÉLOGE DE LA PIFOMÉTRIE \nà la salle \nà 17 h \nDans le cadre de la saison du PARVIS – Scène Nationale Tarbes Pyrénées
URL:https://www.lucchareyron.com/evenement/saint-savin-65/
CATEGORIES:Éloge de la Pifométrie,Spectacles
ATTACH;FMTTYPE=image/jpeg:https://www.lucchareyron.com/wp-content/uploads/2016/12/Bouton_pifometrie.jpg
END:VEVENT
BEGIN:VEVENT
DTSTART;VALUE=DATE:20221112
DTEND;VALUE=DATE:20221113
DTSTAMP:20260423T050034
CREATED:20220722T140206Z
LAST-MODIFIED:20220722T140206Z
UID:1530-1668211200-1668297599@www.lucchareyron.com
SUMMARY:MAUBOURGET (65)
DESCRIPTION:ÉLOGE DE LA PIFOMÉTRIE \nAU Centre culturel Glavany \nà 20 h 30 \nDans le cadre de la saison du PARVIS – Scène Nationale Tarbes Pyrénées
URL:https://www.lucchareyron.com/evenement/maubourget-65/
CATEGORIES:Éloge de la Pifométrie,Spectacles
ATTACH;FMTTYPE=image/jpeg:https://www.lucchareyron.com/wp-content/uploads/2016/12/Bouton_pifometrie.jpg
END:VEVENT
BEGIN:VEVENT
DTSTART;VALUE=DATE:20221113
DTEND;VALUE=DATE:20221114
DTSTAMP:20260423T050034
CREATED:20220722T140434Z
LAST-MODIFIED:20220722T140538Z
UID:1532-1668297600-1668383999@www.lucchareyron.com
SUMMARY:CAPVERN-LES-BAINS (65)
DESCRIPTION:ÉLOGE DE LA PIFOMÉTRIE \nau Cinéma Agnès Varda \nà 17 h \nDans le cadre de la saison du PARVIS – Scène Nationale Tarbes Pyrénées
URL:https://www.lucchareyron.com/evenement/capvern-les-bains-65/
CATEGORIES:Éloge de la Pifométrie,Spectacles
ATTACH;FMTTYPE=image/jpeg:https://www.lucchareyron.com/wp-content/uploads/2016/12/Bouton_pifometrie.jpg
END:VEVENT
BEGIN:VEVENT
DTSTART;VALUE=DATE:20221115
DTEND;VALUE=DATE:20221116
DTSTAMP:20260423T050034
CREATED:20220722T140829Z
LAST-MODIFIED:20220722T140829Z
UID:1534-1668470400-1668556799@www.lucchareyron.com
SUMMARY:AUREILHAN (65)
DESCRIPTION:ÉLOGE DE LA PIFOMÉTRIE \nà ECLA \nà 20 h 30 \nDans le cadre de la saison du PARVIS – Scène Nationale Tarbes Pyrénées
URL:https://www.lucchareyron.com/evenement/aureilhan-65/
CATEGORIES:Éloge de la Pifométrie,Spectacles
ATTACH;FMTTYPE=image/jpeg:https://www.lucchareyron.com/wp-content/uploads/2016/12/Bouton_pifometrie.jpg
END:VEVENT
BEGIN:VEVENT
DTSTART;VALUE=DATE:20221118
DTEND;VALUE=DATE:20221119
DTSTAMP:20260423T050034
CREATED:20220722T141126Z
LAST-MODIFIED:20220722T141126Z
UID:1536-1668729600-1668815999@www.lucchareyron.com
SUMMARY:SERRE-MORLAÀS (65)
DESCRIPTION:ÉLOGE DE LA PIFOMÉTRIE \nà la Salle Bere Biste \nà 20 h 30 \nDans le cadre de la saison du PARVIS – Scène Nationale Tarbes Pyrénées
URL:https://www.lucchareyron.com/evenement/serre-morlaas-65/
CATEGORIES:Éloge de la Pifométrie,Spectacles
ATTACH;FMTTYPE=image/jpeg:https://www.lucchareyron.com/wp-content/uploads/2016/12/Bouton_pifometrie.jpg
END:VEVENT
BEGIN:VEVENT
DTSTART;VALUE=DATE:20221119
DTEND;VALUE=DATE:20221120
DTSTAMP:20260423T050034
CREATED:20220722T141650Z
LAST-MODIFIED:20220722T141650Z
UID:1539-1668816000-1668902399@www.lucchareyron.com
SUMMARY:SAINT-LARY-SOULAN (65)
DESCRIPTION:ÉLOGE DE LA PIFOMÉTRIE \nà la Mairie \nà 20 h 30 \nDans le cadre de la saison du PARVIS – Scène Nationale Tarbes Pyrénées
URL:https://www.lucchareyron.com/evenement/saint-lary-soulan-65/
CATEGORIES:Éloge de la Pifométrie,Spectacles
ATTACH;FMTTYPE=image/jpeg:https://www.lucchareyron.com/wp-content/uploads/2016/12/Bouton_pifometrie.jpg
END:VEVENT
END:VCALENDAR